BEGIN:VCALENDAR
VERSION:2.0
PRODID:-//demosphere.net//NONSGML kigkonsult.se iCalcreator 2.22.1//
METHOD:REQUEST
X-WR-TIMEZONE:Europe/Paris
BEGIN:VEVENT
UID:https://63.demosphere.net/rv/1721
DTSTAMP:20241016T180000Z
DESCRIPTION:plus d'infos sur : https://63.demosphere.net/rv/1721
DTSTART:20241016T180000Z
DTEND:20241016T190000Z
GEO:+45.763;+3.084023
LOCATION:Clermont-Ferrand\, \nSalle Thomazet \n34 rue Poncillon
SUMMARY:Combattre l'antisémitisme et défendre les droits du peuple palestin
 ien avec P Stambul
URL:https://63.demosphere.net/rv/1721
END:VEVENT
END:VCALENDAR
