BEGIN:VCALENDAR
VERSION:2.0
PRODID:-//demosphere.net//NONSGML kigkonsult.se iCalcreator 2.22.1//
METHOD:REQUEST
X-WR-TIMEZONE:Europe/Paris
BEGIN:VEVENT
UID:https://63.demosphere.net/rv/1917
DTSTAMP:20260502T013300Z
DESCRIPTION:plus d'infos sur : https://63.demosphere.net/rv/1917
DTSTART;VALUE=DATE:20260502
GEO:+45.763;+3.084023
LOCATION:Clermont-Ferrand\, \nSalle Thomazet \n34 rue Poncillon
SUMMARY:Journée de lutte et de réflexion contre les extrêmes-doites
URL:https://63.demosphere.net/rv/1917
END:VEVENT
END:VCALENDAR
