BEGIN:VCALENDAR
VERSION:2.0
PRODID:-//demosphere.net//NONSGML kigkonsult.se iCalcreator 2.22.1//
METHOD:REQUEST
X-WR-TIMEZONE:Europe/Paris
BEGIN:VEVENT
UID:https://63.demosphere.net/rv/1918
DTSTAMP:20260425T130000Z
DESCRIPTION:plus d'infos sur : https://63.demosphere.net/rv/1918
DTSTART:20260425T130000Z
DTEND:20260425T140000Z
GEO:+45.776583;+3.08247
LOCATION:Clermont-Ferrand\, \nPlace de Jaude
SUMMARY:NON à la guerre\, aux impérialismes\, à tous les fascismes !
URL:https://63.demosphere.net/rv/1918
END:VEVENT
END:VCALENDAR
