BEGIN:VCALENDAR
VERSION:2.0
PRODID:-//demosphere.net//NONSGML kigkonsult.se iCalcreator 2.22.1//
METHOD:REQUEST
X-WR-TIMEZONE:Europe/Paris
BEGIN:VEVENT
UID:https://63.demosphere.net/rv/1919
DTSTAMP:20260501T080000Z
DESCRIPTION:plus d'infos sur : https://63.demosphere.net/rv/1919
DTSTART:20260501T080000Z
DTEND:20260501T090000Z
GEO:+45.780359;+3.091061
LOCATION:Clermont-Ferrand\, \nplace Delille \nClermont-Ferrand
SUMMARY:1er mai. Pour la justice sociale\, pour la paix !
URL:https://63.demosphere.net/rv/1919
END:VEVENT
END:VCALENDAR
