BEGIN:VCALENDAR
VERSION:2.0
PRODID:-//demosphere.net//NONSGML kigkonsult.se iCalcreator 2.22.1//
METHOD:REQUEST
X-WR-TIMEZONE:Europe/Paris
BEGIN:VEVENT
UID:https://63.demosphere.net/rv/1920
DTSTAMP:20260507T170000Z
DESCRIPTION:plus d'infos sur : https://63.demosphere.net/rv/1920
DTSTART:20260507T170000Z
DTEND:20260507T180000Z
GEO:+45.770462;+3.085427
LOCATION:Clermont-Ferrand\, \nSalle Conchon \nRue Léo Lagrange
SUMMARY:B. Fiorini : Sauvons le jury populaire : Pour une justice démocrati
 que et citoyenne
URL:https://63.demosphere.net/rv/1920
END:VEVENT
END:VCALENDAR
